Workbook

Sheet Menu
C11: Planilha de dados financeiros
C12: Financials spreadsheet
C15: Última atualização em: | D15: 3T24
C16: Last updated at: | D16: 3Q24
C18: Idioma/Language: | D18: Português

Sheet Apoio
A1: DRE Eternit S. A. Consolidado (em R$ mil) | B1: Income Statement Eternit S. A. Consolidated (R$ thousand) | D1: Balanço Patrimonial Eternit S. A. Consolidado (em R$ mil) | E1: Balance Sheet Eternit S. A. Consolidated (R$ thousand) | G1: Desempenho Operacional | H1: Operating Performance
A2: Receita Bruta | B2: Gross Revenue | D2: ATIVO | E2: ASSETS
A3: Deduções da Receita | B3: Gross revenues deductions | D3: Circulante | E3: Current | G3: Segmento de Fibrocimento | H3: Fiber-cement Segment
A4: Receita líquida | B4: Net revenues | D4: Caixa e equivalentes de caixa | E4: Cash and cash equivalents | G4: Volume de vendas de Telhas de Fibrocimento (t) | H4: Fiber-cement tile sales (t)
A5: Custos dos produtos e mercadorias vendidos e dos serviços prestados | B5: Costs of goods and services sold | D5: Aplicações financeiras | E5: Financial Investments | G5: Volume de vendas de Sistemas Construtivos (t) | H5: Construction Systems Sales (t)
A6: Lucro (prejuízo) bruto | B6: Gross profit (loss) | D6: Contas a receber | E6: Accounts receivable | G6: Receita líquida - R$ mil | H6: Net revenues - R$ thousand
A7: Margem bruta | B7: Gross margin | D7: Estoques | E7: Inventories | G7: Lucro bruto - R$ mil | H7: Gross profit - R$ thousand
A8: Lucro bruto recorrente | B8: Adjusted gross profit | D8: Impostos a recuperar | E8: Recoverable taxes | G8: Margem bruta - R$ mil | H8: Gross margin - R$ thousand
A9: Margem bruta recorrente | B9: Adjusted gross margin | D9: Imposto de renda e contribuição social diferidos | E9: Deferred income and social contribution taxes | G9: Segmento de Mineral Crisotila | H9: Chrysotile Mineral Segment
A10: Receitas (despesas) operacionais¹ | B10: Operating income (expenses)¹ | D10: Partes relacionadas | E10: Related parties | G10: Volume de vendas Mineral Crisotila (t) | H10: Chrysotile Mineral tile sales (t)
A11: Despesas com vendas | B11: Selling expenses | D11: Adiantamento a fornecedores | E11: Prepaid expenses | G11: Receita líquida - R$ mil | H11: Net revenues - R$ thousand
A12: Gerais e administrativas² | B12: General and administrative expenses² | D12: Outros ativos circulantes | E12: Other current assets | G12: Lucro bruto - R$ mil | H12: Gross profit - R$ thousand
A13: Outras receitas (despesas) operacionais | B13: Other operating income (expenses), net | D13: Ativo mantido para a venda | E13: Current assets held for sale | G13: Margem bruta - R$ mil | H13: Gross margin - R$ thousand
A14: Lucro (prejuízo) antes da equivalência patrimonial (EBIT*) | B14: Operating income (expenses) before equity pickup (EBIT*) | D14: Não circulante | E14: Non-current | G14: Segmento de Telhas de Concreto | H14: Concrete Roofing Tiles Segment
... A18: Lucro (prejuízo) antes do resultado financeiro (EBIT**) | B18: Operating income (expenses) before financial expenses (EBIT**) | D18: Outros ativos não circulantes | E18: Other noncurrent assets | G18: Margem bruta - R$ mil | H18: Gross margin - R$ thousand
A19: Resultado financeiro líquido | B19: Financial income (expenses), net | D19: Investimentos | E19: Investments
A20: Despesas financeiras | B20: Financial expenses | D20: Ativo de direito uso | E20: Right-of-use assets
A21: Receitas financeiras | B21: Financial income | D21: Imposto de renda e contribuição social diferidos | E21: Deferred income and social contribution taxes
A22: Lucro antes do imposto de renda e da contribuição social | B22: Loss before income and social contribution taxes | D22: Imobilizado | E22: Property, Plant and Equipment (PP&E)
A23: Corrente | B23: Current income tax and social contribution | D23: Intangível | E23: Intangible assets
A24: Diferido | B24: ² A partir do 2T17: Contempla a rubrica de Remuneração da Administração | D24: Total do ativo | E24: Total assets
A25: Lucro (Prejuízo) líquido do período | B25: Net income (loss) for the period | D25: PASSIVO e PATRIMÔNIO LÍQUIDO | E25: LIABILITIES AND EQUITY
A26: Margem líquida | B26: Net margin | D26: Circulante | E26: Current
A27: Lucro (prejuízo) líquido recorrente | B27: Net income (loss) for the period | D27: Fornecedores | E27: Trade accounts payable
A28: Margem líquida recorrente | B28: Adjusted Net Margin | D28: Empréstimos e financiamentos | E28: Loans and financing
A29: Lucro líquido por ação - R$ | B29: Earnings (loss) per share, basic and diluted - R$ | D29: Partes relacionadas | E29: Related parties
A30: EBITDA | B30: EBITDA | D30: Obrigações com pessoal | E30: Personnel expenses
... A33: Margem EBITD recorrente | B33: Adjusted EBITDA Margin | D33: Provisão para benefício pós-emprego | E33: Provision for post-employment benefits
A34: Notas de rodapé | D34: Obrigações de arrendamento | E34: Lease obligations
A35: (*) EBIT ajustado por conta do resultado da joint-venture Companhia Sulamerica de Cerâmica | B35: (*) Adjusted EBIT due to the result of the joint venture Companhia Sulamerica de Cerâmica | D35: Outros passivos circulantes | E35: Other current liabilities
A36: (**) EBIT ajustado por conta do resultado da joint venture Companhia Sulamerica de Cerâmica e eventos não recorrentes. | B36: (**) Adjusted EBIT due to the result of the joint venture Companhia Sulamerica de Cerâmica and non-recurring events. | D36: Recebimento antecipado de clientes | E36: Client receipt in advance
A37: ¹ A partir do 2T17 até 1T21: Não contempla equivalência patrimonial que é apresentada separadamente do total de receitas (despesas) operacionais | B37: ¹From 2Q17 until 1Q21:It does not include equity pickup , presented separately from total operating income (expenses) | D37: Instrumentos financeiros derivativos | E37: Derivative financial instruments
A38: ²A partir do 2T17 até 1T21: Contempla a rubrica de Remuneração da Administração | B38: ²From 2Q17 until 1Q21: Includes Management Compensation. | D38: Provisão para reestruturação | E38: Restructuring provision
D39: Provisões e encargos sociais | E39: Provisions and social charges
D40: Não circulante | E40: Non-Current
D41: Empréstimos e financiamentos | E41: Loans and financing
D42: Partes Relacionadas | E42: Related parties
D43: Impostos, taxas e contribuições a recolher | E43: Taxes, charges and contributions payable
D44: Obrigações com pessoal | E44: Labor obligations
D45: Provisão para riscos tributários, cíveis e trabalhistas | E45: Provision for tax, civil and labor risks
...

Sheet DRE
B3: 1T19 | C3: 2T19 | D3: 3T19 | E3: 4T19 | F3: 1T20 | G3: 2T20 | H3: 3T20 | I3: 4T20 | J3: 1T21 | K3: 2T21 | L3: 3T21 | M3: 4T21 | N3: 1T22 | O3: 2T22 | P3: 3T22 | Q3: 4T22 | R3: 1T23 | S3: 2T23 | T3: 3T23 | U3: 4T23 | V3: 1T24 | W3: 2T24 | X3: 3T24
A4: =IF(Menu!D18="Português",Apoio!A1,Apoio!B1) -> DRE Eternit S. A. Consolidado (em R$ mil) | B4: =IF(Menu!$D18="Português",DRE!B$3,LEFT(B3,1)&"Q"&RIGHT(B3,LEN(B3)-FIND("T",B3))) -> 1T19 | C4: =IF(Menu!$D18="Português",DRE!C$3,LEFT(C3,1)&"Q"&RIGHT(C3,LEN(C3)-FIND("T",C3))) -> 2T19 | D4: =IF(Menu!$D18="Português",DRE!D$3,LEFT(D3,1)&"Q"&RIGHT(D3,LEN(D3)-FIND("T",D3))) -> 3T19 | E4: =IF(Menu!$D18="Português",DRE!E$3,LEFT(E3,1)&"Q"&RIGHT(E3,LEN(E3)-FIND("T",E3))) -> 4T19 | F4: =IF(Menu!$D18="Português",DRE!F$3,LEFT(F3,1)&"Q"&RIGHT(F3,LEN(F3)-FIND("T",F3))) -> 1T20 | G4: =IF(Menu!$D18="Português",DRE!G$3,LEFT(G3,1)&"Q"&RIGHT(G3,LEN(G3)-FIND("T",G3))) -> 2T20 | H4: =IF(Menu!$D18="Português",DRE!H$3,LEFT(H3,1)&"Q"&RIGHT(H3,LEN(H3)-FIND("T",H3))) -> 3T20 | I4: =IF(Menu!$D18="Português",DRE!I$3,LEFT(I3,1)&"Q"&RIGHT(I3,LEN(I3)-FIND("T",I3))) -> 4T20 | ... X4: =IF(Menu!$D18="Português",DRE!X$3,LEFT(X3,1)&"Q"&RIGHT(X3,LEN(X3)-FIND("T",X3))) -> 3T24 | Z4: 2019 | AA4: 2020 | AB4: 2021 | AC4: 2022 | AD4: 2023 | AE4: 9M24
A5: =IF(Menu!D18="Português",Apoio!A2,Apoio!B2) -> Receita Bruta | B5: 156639 | C5: =(311005+889)-B5 -> 155255 | D5: 167227 | E5: 159541 | F5: 146786 | G5: 173463 | H5: 254124 | I5: 285995 | J5: 338614 | K5: =689260-J5-1 -> 350645 | L5: 344131 | M5: 359741 | N5: 324291 | O5: 351034 | P5: 388640 | Q5: 379701 | R5: 360276 | S5: 316883 | T5: 353183 | U5: 343257 | V5: 325408 | W5: 336758 | X5: 401244 | Z5: =SUM(B5:E5) -> 638662 | AA5: =SUM(F5:I5) -> 860368 | AB5: =SUM(J5:M5) -> 1393131 | AC5: =SUM(N5:Q5) -> 1443666 | AD5: =SUM(R5:U5) -> 1373599 | AE5: =SUM(V5:X5) -> 1063410
A6: =IF(Menu!D18="Português",Apoio!A3,Apoio!B3) -> Deduções da Receita | B6: -32959 | C6: =-(69664+1545)-B6 -> -38250 | D6: -39933 | E6: -38849 | F6: -33150 | G6: -34268 | H6: -52985 | I6: -56542 | J6: -68329 | K6: =-(131658)-J6+1 -> -63328 | L6: -68153 | M6: =-(270007)-SUM(J6:L6) -> -70197 | N6: -64598 | O6: =-(123546)-N6 -> -58948 | P6: =-(189137)-SUM(N6:O6)-1 -> -65592 | Q6: =-(256281)-SUM(N6:P6)-2 -> -67145 | R6: -63900 | S6: =-(121198)-R6 -> -57298 | T6: =-(3835+179556)-SUM(R6:S6) -> -62193 | U6: =-(4885+239501)-SUM(R6:T6) -> -60995 | V6: =-(982+57760) -> -58742 | W6: -60298 | X6: -69251 | Z6: =SUM(B6:E6) -> -149991 | AA6: =SUM(F6:I6) -> -176945 | AB6: =SUM(J6:M6) -> -270007 | AC6: =SUM(N6:Q6) -> -256283 | AD6: =SUM(R6:U6) -> -244386 | AE6: =SUM(V6:X6) -> -188291
A7: =IF(Menu!D18="Português",Apoio!A4,Apoio!B4) -> Receita líquida | B7: 123680 | C7: 117005 | D7: 127294 | E7: 120692 | F7: 113636 | G7: 139195 | H7: 201139 | I7: 229453 | J7: 270285 | K7: 287317 | L7: 275978 | M7: 289545 | N7: 259693 | O7: 292086 | P7: 323048 | Q7: 312556 | R7: 296376 | S7: 259585 | T7: 290990 | U7: 282262 | V7: 266666 | W7: 276460 | X7: 331992 | Z7: =SUM(B7:E7) -> 488671 | AA7: =SUM(F7:I7) -> 683423 | AB7: =SUM(J7:M7) -> 1123125 | AC7: =SUM(N7:Q7) -> 1187383 | AD7: =SUM(R7:U7) -> 1129213 | AE7: =SUM(V7:X7) -> 875118
A8: =IF(Menu!D18="Português",Apoio!A5,Apoio!B5) -> Custos dos produtos e mercadorias vendidos e dos serviços prestados | B8: -103653 | C8: -107239 | D8: -114654 | E8: -94555 | F8: -93866 | G8: -110921 | H8: -124546 | I8: -126746 | J8: -149991 | K8: -154486 | L8: -157269 | M8: -170329 | N8: -173755 | O8: -184628 | P8: -223058 | Q8: -234001 | R8: -212852 | S8: -192671 | T8: -212761 | U8: -220128 | V8: -211217 | W8: -218576 | X8: -246642 | Z8: =SUM(B8:E8) -> -420101 | AA8: =SUM(F8:I8) -> -456079 | AB8: =SUM(J8:M8) -> -632075 | AC8: =SUM(N8:Q8) -> -815442 | AD8: =SUM(R8:U8) -> -838412 | AE8: =SUM(V8:X8) -> -676435
A9: =IF(Menu!$D$18="Português",Apoio!A6,Apoio!B6) -> Lucro (prejuízo) bruto | B9: 20027 | C9: 9766 | D9: 12640 | E9: 26137 | F9: 19770 | G9: 28274 | H9: 76593 | I9: 102707 | J9: 120294 | K9: 132831 | L9: 118709 | M9: 119216 | N9: 85938 | O9: 107458 | P9: 99990 | Q9: 78555 | R9: 83524 | S9: 66914 | T9: 78229 | U9: 62134 | V9: 55449 | W9: 57884 | X9: 85350 | Z9: =SUM(B9:E9) -> 68570 | AA9: =SUM(F9:I9) -> 227344 | AB9: =SUM(J9:M9) -> 491050 | AC9: =SUM(N9:Q9) -> 371941 | AD9: =SUM(R9:U9) -> 290801 | AE9: =SUM(V9:X9) -> 198683
A10: =IF(Menu!$D$18="Português",Apoio!A7,Apoio!B7) -> Margem bruta | B10: 0.16 | C10: 0.08 | D10: 0.1 | E10: 0.22 | F10: 0.17 | G10: 0.2 | H10: 0.38 | I10: 0.45 | J10: 0.45 | K10: 0.46 | L10: 0.43 | M10: 0.41 | N10: 0.33 | O10: 0.37 | P10: 0.31 | Q10: 0.25 | R10: 0.28 | S10: 0.26 | T10: 0.27 | U10: 0.22 | V10: 0.21 | W10: 0.21 | X10: 0.26 | Z10: =Z9/Z7 -> 0.14031936 | AA10: =AA9/AA7 -> 0.33265489 | AB10: =AB9/AB7 -> 0.43721758 | AC10: =AC9/AC7 -> 0.31324434 | AD10: =AD9/AD7 -> 0.25752537 | AE10: =AE9/AE5 -> 0.18683575
A11: =IF(Menu!D18="Português",Apoio!A10,Apoio!B10) -> Receitas (despesas) operacionais¹ | B11: -36948 | C11: -30193 | D11: 20555 | E11: 4651 | F11: -28388 | G11: -5947 | H11: -32061 | I11: 27666 | J11: -42046 | K11: -48150 | L11: -5845 | M11: -49360 | N11: -26175 | O11: -55242 | P11: -51791 | Q11: -62127 | R11: -52107 | S11: -64195 | T11: -48309 | U11: -51294 | V11: -50520 | W11: -36210 | X11: -61198 | Z11: =SUM(B11:E11) -> -41935 | AA11: =SUM(F11:I11) -> -38730 | AB11: =SUM(J11:M11) -> -145401 | AC11: =SUM(N11:Q11) -> -195335 | AD11: =SUM(R11:U11) -> -215905 | AE11: =SUM(V11:X11) -> -147928
A12: =IF(Menu!D18="Português",Apoio!A11,Apoio!B11) -> Despesas com vendas | B12: -13726 | C12: -13243 | D12: -13033 | E12: -10696 | F12: -10624 | G12: -12526 | H12: -15340 | I12: -22009 | J12: -18617 | K12: -25189 | L12: -21770 | M12: -28565 | N12: -22430 | O12: -27469 | P12: -27515 | Q12: -31226 | R12: -24360 | S12: -35072 | T12: -26117 | U12: -29874 | V12: -25033 | W12: -28824 | X12: -32063 | Z12: =SUM(B12:E12) -> -50698 | AA12: =SUM(F12:I12) -> -60499 | AB12: =SUM(J12:M12) -> -94141 | AC12: =SUM(N12:Q12) -> -108640 | AD12: =SUM(R12:U12) -> -115423 | AE12: =SUM(V12:X12) -> -85920
A13: =IF(Menu!D18="Português",Apoio!A12,Apoio!B12) -> Gerais e administrativas² | B13: -17747 | C13: -13752 | D13: -18190 | E13: -19485 | F13: -18448 | G13: -15606 | H13: -23416 | I13: -24850 | J13: -21085 | K13: -21202 | L13: -24119 | M13: -30449 | N13: -22092 | O13: -27307 | P13: -24737 | Q13: -28511 | R13: -23730 | S13: -30515 | T13: -25392 | U13: -17126 | V13: -23068 | W13: -26264 | X13: -32063 | Z13: =SUM(B13:E13) -> -69174 | AA13: =SUM(F13:I13) -> -82320 | AB13: =SUM(J13:M13) -> -96855 | AC13: =SUM(N13:Q13) -> -102647 | AD13: =SUM(R13:U13) -> -96763 | AE13: =SUM(V13:X13) -> -81395
A14: =IF(Menu!D18="Português",Apoio!A13,Apoio!B13) -> Outras receitas (despesas) operacionais | B14: -5475 | C14: -3198 | D14: 51778 | E14: 34832 | F14: 684 | G14: 22185 | H14: 6695 | I14: 74525 | J14: -2344 | K14: -1759 | L14: 40044 | M14: 9654 | N14: 18347 | O14: -466 | P14: 461 | Q14: -2390 | R14: -4017 | S14: 1392 | T14: 3200 | U14: -4294 | V14: -2419 | W14: 18878 | X14: -2610 | Z14: =SUM(B14:E14) -> 77937 | AA14: =SUM(F14:I14) -> 104089 | AB14: =SUM(J14:M14) -> 45595 | AC14: =SUM(N14:Q14) -> 15952 | AD14: =SUM(R14:U14) -> -3719 | AE14: =SUM(V14:X14) -> 13849
A15: =IF(Menu!$D$18="Português",Apoio!A16,Apoio!B16) -> Resultado da equivalência patrimonial | B15: -2825 | C15: -4613 | D15: 18204 | E15: 0 | F15: 0 | G15: 0 | H15: 0 | I15: 0 | J15: 0 | K15: 0 | L15: 0 | M15: 0 | N15: 0 | O15: 0 | P15: 0 | Q15: -7214 | R15: -2937 | S15: 0 | T15: 0 | U15: 0 | V15: 0 | W15: 0 | X15: 0 | Z15: =SUM(B15:E15) -> 10766 | AA15: =SUM(F15:I15) -> 0 | AB15: =SUM(J15:M15) -> 0 | AC15: =SUM(N15:Q15) -> -7214 | AD15: =SUM(R15:U15) -> -2937 | AE15: =SUM(V15:X15) -> 0
A16: =IF(Menu!$D$18="Português",Apoio!A18,Apoio!B18) -> Lucro (prejuízo) antes do resultado financeiro (EBIT**) | B16: -19746 | C16: -25040 | D16: 51399 | E16: 30788 | F16: -8618 | G16: 22327 | H16: 44532 | I16: 130373 | J16: 78248 | K16: 84681 | L16: 112864 | M16: 69856 | N16: 59763 | O16: 52216 | P16: 48199 | Q16: 16428 | R16: 31417 | S16: 2719 | T16: 29920 | U16: 10840 | V16: 4929 | W16: 21674 | X16: 24152 | Z16: =SUM(B16:E16) -> 37401 | AA16: =SUM(F16:I16) -> 188614 | AB16: =SUM(J16:M16) -> 345649 | AC16: =SUM(N16:Q16) -> 176606 | AD16: =SUM(R16:U16) -> 74896 | AE16: =SUM(V16:X16) -> 50755
A17: =IF(Menu!$D$18="Português",Apoio!A15,Apoio!B15) -> Margem EBIT | B17: -0.15965395 | C17: -0.21400795 | D17: =D16/D7 -> 0.4037818 | E17: 0.25509562 | F17: =F16/F7 -> -0.075838643 | G17: =G16/G7 -> 0.16040088 | H17: 0.22139913 | I17: 0.56819044 | J17: =J16/J7 -> 0.28950182 | K17: 0.29 | L17: 0.41 | M17: 0.24 | N17: 0.23 | O17: 0.18 | P17: 0.15 | Q17: 0.05 | R17: 0.11 | S17: 0.01 | T17: 0.1 | U17: 0.04 | V17: 0.02 | W17: 0.08 | X17: 0.07 | Z17: =Z16/Z7 -> 0.076536156 | AA17: =AA16/AA7 -> 0.27598427 | AB17: =AB16/AB7 -> 0.30775648 | AC17: =AC16/AC7 -> 0.1487355 | AD17: =AD16/AD7 -> 0.066325839 | AE17: =AE16/AE7 -> 0.057997893
A18: =IF(Menu!$D$18="Português",Apoio!A19,Apoio!B19) -> Resultado financeiro líquido | B18: -5046 | C18: -4250 | D18: 15488 | E18: 846 | F18: -5596 | G18: -5065 | H18: 2986 | I18: 12712 | J18: 2534 | K18: -9091 | L18: 4859 | M18: 3073 | N18: -8631 | O18: 4123 | P18: 122 | Q18: -7214 | R18: -2937 | S18: -2097 | T18: -1404 | U18: -5496 | V18: -1834 | W18: -5452 | X18: -5531 | Z18: =SUM(B18:E18) -> 7038 | AA18: =SUM(F18:I18) -> 5037 | AB18: =SUM(J18:M18) -> 1375 | AC18: =SUM(N18:Q18) -> -11600 | AD18: =SUM(R18:U18) -> -11934 | AE18: =SUM(V18:X18) -> -12817
A19: =IF(Menu!$D$18="Português",Apoio!A20,Apoio!B20) -> Despesas financeiras | B19: =-(5858+4105) -> -9963 | C19: =-(10431+6388)-B19 -> -6856 | D19: =-(25535)-SUM(B19:C19) -> -8716 | E19: =-(35015)-SUM(B19:D19) -> -9480 | F19: -11150 | G19: =-(22893)-F19 -> -11743 | H19: =-(16739)-SUM(F19:G19) -> 6154 | I19: =-(19834)-SUM(F19:H19) -> -3095 | J19: -4888 | K19: =-(7676)-J19 -> -2788 | L19: =-(11202)-SUM(J19:K19) -> -3526 | M19: =-(14425)-SUM(J19:L19) -> -3223 | N19: -4349 | O19: =-(9330)-N19 -> -4981 | P19: =-(15011)-SUM(N19:O19) -> -5681 | Q19: =-(20151)-SUM(N19:P19) -> -5140 | R19: -5525 | S19: =-(9805)-R19 -> -4280 | T19: =-(17046)-SUM(R19:S19) -> -7241 | U19: =-(23486)-SUM(R19:T19) -> -6440 | V19: -5421 | W19: =-(11235)-V19 -> -5814 | X19: -6963 | Z19: =SUM(B19:E19) -> -35015 | AA19: =SUM(F19:I19) -> -19834 | AB19: =SUM(J19:M19) -> -14425 | AC19: =SUM(N19:Q19) -> -20151 | AD19: =SUM(R19:U19) -> -23486 | AE19: =SUM(V19:X19) -> -18198
A20: =IF(Menu!$D$18="Português",Apoio!A21,Apoio!B21) -> Receitas financeiras | B20: =1000+3917 -> 4917 | C20: =(1493+6030)-B20 -> 2606 | D20: =(31727)-SUM(B20:C20) -> 24204 | E20: =(42053)-SUM(B20:D20) -> 10326 | F20: 5554 | G20: =(12232)-F20 -> 6678 | H20: =(9064)-SUM(F20:G20) -> -3168 | I20: =(24871)-SUM(F20:H20) -> 15807 | J20: 7422 | K20: =1119-J20 -> -6303 | L20: =9504-SUM(J20:K20) -> 8385 | M20: =(15800)-SUM(J20:L20) -> 6296 | N20: -4282 | O20: =4822-N20 -> 9104 | P20: =(10625)-SUM(N20:O20) -> 5803 | Q20: =(8551)-SUM(N20:P20) -> -2074 | R20: 2588 | S20: =4771-R20 -> 2183 | T20: =10608-SUM(R20:S20) -> 5837 | U20: =(11552)-SUM(R20:T20) -> 944 | V20: 3587 | W20: =3949-V20 -> 362 | X20: 1432 | Z20: =SUM(B20:E20) -> 42053 | AA20: =SUM(F20:I20) -> 24871 | AB20: =SUM(J20:M20) -> 15800 | AC20: =SUM(N20:Q20) -> 8551 | AD20: =SUM(R20:U20) -> 11552 | AE20: =SUM(V20:X20) -> 5381
A21: =IF(Menu!$D$18="Português",Apoio!A22,Apoio!B22) -> Lucro antes do imposto de renda e da contribuição social | B21: -24792 | C21: -29290 | D21: 66887 | E21: 31634 | F21: -14214 | G21: 17262 | H21: 47518 | I21: 143085 | J21: 80782 | K21: 75590 | L21: 117723 | M21: 72929 | N21: 51132 | O21: 56339 | P21: 48321 | Q21: 9214 | R21: 28480 | S21: 622 | T21: 28516 | U21: 5344 | V21: 3095 | W21: 16222 | X21: 18621 | Z21: =SUM(B21:E21) -> 44439 | AA21: =SUM(F21:I21) -> 193651 | AB21: =SUM(J21:M21) -> 347024 | AC21: =SUM(N21:Q21) -> 165006 | AD21: =SUM(R21:U21) -> 62962 | AE21: =SUM(V21:X21) -> 37938
A22: =IF(Menu!$D$18="Português",Apoio!A23,Apoio!B23) -> Corrente | B22: -308 | C22: -236 | D22: -15961 | E22: -224 | F22: -361 | G22: -4576 | H22: -7559 | I22: -9961 | J22: -22344 | K22: -16366 | L22: -25785 | M22: -14914 | N22: -13988 | O22: -20645 | P22: -8707 | Q22: 2550 | R22: -11228 | S22: -2108 | T22: -12413 | U22: -2691 | V22: -4090 | W22: -6150 | X22: -9185 | Z22: =SUM(B22:E22) -> -16729 | AA22: =SUM(F22:I22) -> -22457 | AB22: =SUM(J22:M22) -> -79409 | AC22: =SUM(N22:Q22) -> -40790 | AD22: =SUM(R22:U22) -> -28440 | AE22: =SUM(V22:X22) -> -19425
A23: =IF(Menu!$D$18="Português",Apoio!A24,Apoio!B24) -> Diferido | B23: -364 | C23: -8 | D23: -15266 | E23: -24698 | F23: -281 | G23: -129 | H23: -4 | I23: -12047 | J23: -4 | K23: 431 | L23: 6076 | M23: -4672 | N23: 5153 | O23: 4652 | P23: 1426 | Q23: 2268 | R23: 4754 | S23: 2635 | T23: 4969 | U23: 80341 | V23: 1236 | W23: 1618 | X23: 9181 | Z23: =SUM(B23:E23) -> -40336 | AA23: =SUM(F23:I23) -> -12461 | AB23: =SUM(J23:M23) -> 1831 | AC23: =SUM(N23:Q23) -> 13499 | AD23: =SUM(R23:U23) -> 92699 | AE23: =SUM(V23:X23) -> 12035
A24: =IF(Menu!$D$18="Português",Apoio!A25,Apoio!B25) -> Lucro (Prejuízo) líquido do período | B24: -25464 | C24: -29534 | D24: 35660 | E24: 6712 | F24: -14856 | G24: 12557 | H24: 39955 | I24: 121077 | J24: 58434 | K24: 59655 | L24: 98014 | M24: 53343 | N24: 42297 | O24: 40346 | P24: 41040 | Q24: 14032 | R24: 22006 | S24: 1149 | T24: 21072 | U24: 82994 | V24: 241 | W24: 11690 | X24: 18617 | Z24: =SUM(B24:E24) -> -12626 | AA24: =SUM(F24:I24) -> 158733 | AB24: =SUM(J24:M24) -> 269446 | AC24: =SUM(N24:Q24) -> 137715 | AD24: =SUM(R24:U24) -> 127221 | AE24: =SUM(V24:X24) -> 30548
A25: =IF(Menu!$D$18="Português",Apoio!A26,Apoio!B26) -> Margem líquida | B25: -0.20588616 | C25: -0.25241656 | D25: 0.28 | E25: 0.06 | F25: -0.13 | G25: 0.09 | H25: 0.2 | I25: 0.52767669 | J25: 0.22 | K25: 0.21 | L25: 0.36 | M25: 0.18 | N25: 0.16 | O25: 0.14 | P25: 0.13 | Q25: 0.04 | R25: 0.07 | S25: 0 | T25: 0.07 | U25: 0.29 | V25: 0 | W25: 0.04 | X25: 0.06 | Z25: =Z24/Z7 -> -0.025837424 | AA25: =AA24/AA7 -> 0.23226172 | AB25: =AB24/AB7 -> 0.2399074 | AC25: =AC24/AC7 -> 0.11598195 | AD25: =AD24/AD7 -> 0.11266342 | AE25: =AE24/AE7 -> 0.034907293
A26: =IF(Menu!D18="Português",Apoio!A29,Apoio!B29) -> Lucro líquido por ação - R$ | B26: -0.8538 | C26: -0.9903 | D26: 1.1226 | E26: 0.2113 | F26: -0.4677 | G26: 0.3953 | H26: 0.7733 | I26: 2.3435 | J26: 1.131 | K26: =1.9116-J26 -> 0.7806 | L26: =3.4982-SUM(J26:K26) -> 1.5866 | M26: =4.3612-SUM(J26:L26) -> 0.863 | N26: 0.6841 | O26: =(1.3367)-N26 -> 0.6526 | P26: =(2.0009)-SUM(N26:O26) -> 0.6642 | Q26: =2.2278-SUM(N26:P26) -> 0.2269 | R26: 0.356 | S26: 0.3747 | T26: 0.716 | U26: =2.0606-SUM(R26:T26) -> 0.6139 | V26: 0.0039 | W26: 0.1935 | X26: 0.302 | Z26: -0.4 | AA26: 3.07 | AB26: 4.36 | AC26: 2.23 | AD26: 2.06 | AE26: =SUM(V26:X26) -> 0.4994
A27: EBITDA | B27: -16025 | C27: -21148 | D27: 58721 | E27: 34367 | F27: -4728 | G27: 27328 | H27: 50439 | I27: 135446 | J27: 82427 | K27: 88798 | L27: 116939 | M27: 73906 | N27: 64271 | O27: 56781 | P27: 53444 | Q27: 24332 | R27: 40681 | S27: 11574 | T27: 38930 | U27: 21363 | V27: 16695 | W27: 33830 | X27: 36001 | Z27: =SUM(B27:E27) -> 55915 | AA27: =SUM(F27:I27) -> 208485 | AB27: =SUM(J27:M27) -> 362070 | AC27: =SUM(N27:Q27) -> 198828 | AD27: =SUM(R27:U27) -> 112548 | AE27: =SUM(V27:X27) -> 86526
A28: =IF(Menu!D18="Português",Apoio!A31,Apoio!B31) -> Margem EBITDA | B28: -0.12956824 | C28: -0.18 | D28: 0.46 | E28: 0.28 | F28: -0.04 | G28: 0.2 | H28: 0.25 | I28: 0.59 | J28: 0.30496328 | K28: 0.31 | L28: 0.4237258 | M28: 0.25524875 | N28: 0.25 | O28: 0.19 | P28: 0.17 | Q28: 0.08 | R28: 0.14 | S28: 0.04 | T28: 0.13 | U28: 0.08 | V28: 0.06 | W28: 0.12 | X28: 0.11 | Z28: =Z27/Z7 -> 0.11442259 | AA28: =AA27/AA7 -> 0.30505997 | AB28: =AB27/AB7 -> 0.3223773 | AC28: =AC27/AC7 -> 0.1674506 | AD28: =AD27/AD7 -> 0.099669416 | AE28: =AE27/AE7 -> 0.098873523
A29: =IF(Menu!$D$18="Português",Apoio!A32,Apoio!B32) -> EBITDA recorrente | B29: -7797 | C29: -5643 | D29: 2278 | E29: -1365 | F29: 240 | G29: 7493 | H29: 46574 | I29: 67350 | J29: 84945 | K29: 91194 | L29: 84642 | M29: 76214 | N29: 48424 | O29: 58484 | P29: 56807 | Q29: 22778 | R29: 42394 | S29: 15688 | T29: 37265 | U29: 22648 | V29: 16955 | W29: 15598 | X29: 34543 | Z29: =SUM(B29:E29) -> -12527 | AA29: =SUM(F29:I29) -> 121657 | AB29: =SUM(J29:M29) -> 336995 | AC29: =SUM(N29:Q29) -> 186493 | AD29: =SUM(R29:U29) -> 117995 | AE29: =SUM(V29:X29) -> 67096
A30: Margem EBITDA recorrente | B30: -0.06 | C30: -0.05 | D30: 0.02 | E30: -0.01 | F30: 0 | G30: 0.05 | H30: 0.23 | I30: 0.29 | J30: 0.31427937 | K30: 0.32 | L30: 0.30669836 | M30: 0.26321988 | N30: 0.19 | O30: 0.2 | P30: 0.18 | Q30: 0.07 | R30: 0.14 | S30: 0.06 | T30: 0.13 | U30: 0.08 | V30: 0.06 | W30: 0.06 | X30: 0.1 | Z30: =Z29/Z7 -> -0.025634834 | AA30: =AA29/AA7 -> 0.17801128 | AB30: =AB29/AB7 -> 0.3000512 | AC30: =AC29/AC7 -> 0.15706221 | AD30: =AD29/AD7 -> 0.10449313 | AE30: =AE29/AE7 -> 0.076670803

Sheet BP
B3: 1T19 | C3: 2T19 | D3: 3T19 | E3: 4T19 | F3: 1T20 | G3: 2T20 | H3: 3T20 | I3: 4T20 | J3: 1T21 | K3: 2T21 | L3: 3T21 | M3: 4T21 | N3: 1T22 | O3: 2T22 | P3: 3T22 | Q3: 4T22 | R3: 1T23 | S3: 2T23 | T3: 3T23 | U3: 4T23 | V3: 1T24 | W3: 2T24 | X3: 3T24
A4: =IF(Menu!$D$18="Português",Apoio!D1,Apoio!E1) -> Balanço Patrimonial Eternit S. A. Consolidado (em R$ mil) | B4: =IF(Menu!$D18="Português",DRE!B$3,LEFT(B3,1)&"Q"&RIGHT(B3,LEN(B3)-FIND("T",B3))) -> 1T19 | C4: =IF(Menu!$D18="Português",DRE!C$3,LEFT(C3,1)&"Q"&RIGHT(C3,LEN(C3)-FIND("T",C3))) -> 2T19 | D4: =IF(Menu!$D18="Português",DRE!D$3,LEFT(D3,1)&"Q"&RIGHT(D3,LEN(D3)-FIND("T",D3))) -> 3T19 | E4: =IF(Menu!$D18="Português",DRE!E$3,LEFT(E3,1)&"Q"&RIGHT(E3,LEN(E3)-FIND("T",E3))) -> 4T19 | F4: =IF(Menu!$D18="Português",DRE!F$3,LEFT(F3,1)&"Q"&RIGHT(F3,LEN(F3)-FIND("T",F3))) -> 1T20 | G4: =IF(Menu!$D18="Português",DRE!G$3,LEFT(G3,1)&"Q"&RIGHT(G3,LEN(G3)-FIND("T",G3))) -> 2T20 | H4: =IF(Menu!$D18="Português",DRE!H$3,LEFT(H3,1)&"Q"&RIGHT(H3,LEN(H3)-FIND("T",H3))) -> 3T20 | I4: =IF(Menu!$D18="Português",DRE!I$3,LEFT(I3,1)&"Q"&RIGHT(I3,LEN(I3)-FIND("T",I3))) -> 4T20 | ... X4: =IF(Menu!$D18="Português",DRE!X$3,LEFT(X3,1)&"Q"&RIGHT(X3,LEN(X3)-FIND("T",X3))) -> 3T24
A6: =IF(Menu!$D$18="Português",Apoio!D2,Apoio!E2) -> ATIVO
A7: =IF(Menu!$D$18="Português",Apoio!D3,Apoio!E3) -> Circulante | B7: 254416 | C7: 223720 | D7: 240779 | E7: 232558 | F7: 245358 | G7: 264767 | H7: 301763 | I7: 486081 | J7: 569804 | K7: 621361 | L7: 707065 | M7: 740202 | N7: 779841 | O7: 761548 | P7: 709395 | Q7: 715330 | R7: 642321 | S7: 636387 | T7: 606002 | U7: 568035 | V7: 569309 | W7: 593496 | X7: 569779
A8: =IF(Menu!$D$18="Português",Apoio!D4,Apoio!E4) -> Caixa e equivalentes de caixa | B8: 4277 | C8: 5691 | D8: 10475 | E8: 9358 | F8: 10866 | G8: 34862 | H8: 58877 | I8: 81175 | J8: 216333 | K8: 196650 | L8: 259344 | M8: 218864 | N8: 236724 | O8: 149220 | P8: 72460 | Q8: 112469 | R8: 30764 | S8: 49653 | T8: 39890 | U8: 16539 | V8: 15325 | W8: 9247 | X8: 17347
A9: =IF(Menu!$D$18="Português",Apoio!D6,Apoio!E6) -> Contas a receber | B9: 108625 | C9: 75637 | D9: 63744 | E9: 56738 | F9: 66616 | G9: 95780 | H9: 97323 | I9: 89938 | J9: 124391 | K9: 157459 | L9: 132017 | M9: 153229 | N9: 163017 | O9: 223970 | P9: 248676 | Q9: 227705 | R9: 208372 | S9: 186406 | T9: 177557 | U9: 179857 | V9: 178244 | W9: 194723 | X9: 192543
A10: =IF(Menu!$D$18="Português",Apoio!D7,Apoio!E7) -> Estoques | B10: 90130 | C10: 86026 | D10: 106057 | E10: 104921 | F10: 101049 | G10: 57321 | H10: 57224 | I10: 73470 | J10: 86715 | K10: 104327 | L10: 136870 | M10: 185268 | N10: 213481 | O10: 218601 | P10: 240486 | Q10: 209822 | R10: 220084 | S10: 223327 | T10: 200204 | U10: 168259 | V10: 178448 | W10: 180830 | X10: 177978
A11: =IF(Menu!$D$18="Português",Apoio!D8,Apoio!E8) -> Impostos a recuperar | B11: 14635 | C11: 14804 | D11: 21231 | E11: 23496 | F11: 28106 | G11: 34308 | H11: 36200 | I11: 88986 | J11: 92840 | K11: 104575 | L11: 120990 | M11: 126392 | N11: 117575 | O11: 111936 | P11: 88882 | Q11: 107735 | R11: 117635 | S11: 122949 | T11: 129706 | U11: 140904 | V11: 129035 | W11: 116024 | X11: 106920
A12: =IF(Menu!$D$18="Português",Apoio!D9,Apoio!E9) -> Imposto de renda e contribuição social diferidos | B12: 0 | C12: 0 | E12: 0 | F12: 0 | G12: 0 | H12: 0 | I12: 0 | J12: 0 | K12: 0 | L12: 0 | M12: 0 | N12: 0 | O12: 0 | P12: 0 | Q12: 0 | R12: 0 | S12: 0 | T12: 0 | U12: 1850 | V12: 1850 | W12: 1850 | X12: 1850
A13: =IF(Menu!$D$18="Português",Apoio!D10,Apoio!E10) -> Partes relacionadas | B13: 5966 | C13: 9206 | D13: 0 | E13: 0 | F13: 0 | G13: 0 | H13: 0 | I13: 0 | J13: 0 | K13: 0 | L13: 0 | M13: 0 | N13: 0 | O13: 0 | P13: 0 | Q13: 0 | R13: 0 | S13: 0 | T13: 0 | U13: 0 | V13: - | W13: 0 | X13: 0
A14: =IF(Menu!$D$18="Português",Apoio!D11,Apoio!E11) -> Adiantamento a fornecedores | B14: 0 | C14: 0 | D14: 0 | E14: 0 | F14: 0 | G14: 19780 | H14: 27007 | I14: 30266 | J14: 25354 | K14: 34831 | L14: 30767 | M14: 30014 | N14: 24682 | O14: 26571 | P14: 31154 | Q14: 39427 | R14: 39767 | S14: 34579 | T14: 22538 | U14: 27187 | V14: 31301 | W14: 33423 | X14: 35085
A15: Recebíveis de alienação de imovéis | B15: 0 | C15: 0 | D15: 0 | E15: 0 | F15: 0 | G15: 0 | H15: 0 | I15: 0 | J15: 0 | K15: 0 | L15: 0 | M15: 0 | N15: 0 | O15: 0 | P15: 0 | Q15: 0 | R15: 0 | S15: 0 | T15: 0 | U15: 0 | V15: 0 | W15: 20500 | X15: 0
A16: =IF(Menu!$D$18="Português",Apoio!D12,Apoio!E12) -> Outros ativos circulantes | B16: 23477 | C16: 25050 | D16: 27521 | E16: 29630 | F16: 30306 | G16: 11074 | H16: 13473 | I16: 12907 | J16: 19326 | K16: 18305 | L16: 22232 | M16: 21590 | N16: 23339 | O16: 30227 | P16: 26714 | Q16: 17149 | R16: 24676 | S16: 18450 | T16: 35084 | U16: 33439 | V16: 35106 | W16: 36899 | X16: 38056
A17: =IF(Menu!$D$18="Português",Apoio!D13,Apoio!E13) -> Ativo mantido para a venda | B17: 7306 | C17: 7306 | D17: 11751 | E17: 8415 | F17: 8415 | G17: 11642 | H17: 11659 | I17: 109339 | J17: 4845 | K17: 5214 | L17: 4845 | M17: 4845 | N17: 1023 | O17: 1023 | P17: 1023 | Q17: 1023 | R17: 1023 | S17: 1023 | T17: 1023 | U17: 0 | V17: - | W17: 0 | X17: 0
A18: =IF(Menu!$D$18="Português",Apoio!D14,Apoio!E14) -> Não circulante | B18: 308137 | C18: 301552 | D18: 329605 | E18: 313029 | F18: 307102 | G18: 325003 | H18: 321891 | I18: 259187 | J18: 264150 | K18: 272800 | L18: 269772 | M18: 271729 | N18: 286578 | O18: 302233 | P18: 477622 | Q18: 506937 | R18: 526154 | S18: 578375 | T18: 642868 | U18: 732331 | V18: 713586 | W18: 723483 | X18: 737149
A19: =IF(Menu!$D$18="Português",Apoio!D15,Apoio!E15) -> Depósitos judiciais | B19: 16211 | C19: 16183 | D19: 23781 | E19: 19362 | F19: 19746 | G19: 19808 | H19: 20048 | I19: 12202 | J19: 11870 | K19: 12418 | L19: 12692 | M19: 10500 | N19: 10526 | O19: 10635 | P19: 11448 | Q19: 12879 | R19: 12924 | S19: 12685 | T19: 12771 | U19: 12778 | V19: 13028 | W19: 17379 | X19: 13956
A20: =IF(Menu!$D$18="Português",Apoio!D16,Apoio!E16) -> Impostos a recuperar | B20: 38979 | C20: 38174 | D20: 40887 | E20: 40834 | F20: 36913 | G20: 0 | H20: 35320 | I20: 34694 | J20: 33942 | K20: 34831 | L20: 23591 | M20: 10629 | N20: 9727 | O20: 9875 | P20: 40553 | Q20: 37268 | R20: 32603 | S20: 29724 | T20: 26196 | U20: 22597 | V20: 2044 | W20: 2158 | X20: 2932
A21: =IF(Menu!$D$18="Português",Apoio!D17,Apoio!E17) -> Partes relacionadas | B21: 18197 | C21: 15499 | D21: 0 | E21: 0 | F21: 0 | G21: 0 | H21: 0 | I21: 0 | J21: 0 | K21: 0 | L21: 0 | M21: 0 | N21: 0 | O21: 0 | P21: 0 | Q21: 0 | R21: 0 | S21: 0 | T21: 0 | U21: 0 | V21: - | W21: 0 | X21: 0
A22: =IF(Menu!$D$18="Português",Apoio!D18,Apoio!E18) -> Outros ativos não circulantes | B22: 1461 | C22: 1466 | D22: 2244 | E22: 2250 | F22: 2255 | G22: 2261 | H22: 2265 | I22: 2270 | J22: 2276 | K22: 2281 | L22: 2285 | M22: 1595 | N22: 1595 | O22: 1595 | P22: 1595 | Q22: 1595 | R22: 1595 | S22: 1595 | T22: 1541 | U22: 1844 | V22: 1844 | W22: 1844 | X22: 1846
A23: =IF(Menu!$D$18="Português",Apoio!D19,Apoio!E19) -> Investimentos | B23: 57187 | C23: 57187 | D23: 0 | E23: 0 | F23: 0 | G23: 0 | H23: 0 | I23: 0 | J23: 0 | K23: 0 | L23: 0 | M23: 0 | N23: 0 | O23: 0 | P23: 0 | Q23: 0 | R23: 0 | S23: 0 | T23: 0 | U23: 0 | V23: - | W23: 0 | X23: 0
A24: =IF(Menu!$D$18="Português",Apoio!D20,Apoio!E20) -> Ativo de direito uso | B24: 11340 | C24: 11016 | D24: 10692 | E24: 11210 | F24: 10859 | G24: 10643 | H24: 10373 | I24: 9149 | J24: 8825 | K24: 8462 | L24: 8099 | M24: 7758 | N24: 16874 | O24: 16556 | P24: 16238 | Q24: 15920 | R24: 17170 | S24: 16803 | T24: 16436 | U24: 16069 | V24: 17296 | W24: 16871 | X24: 16447
A25: =IF(Menu!$D$18="Português",Apoio!D21,Apoio!E21) -> Imposto de renda e contribuição social diferidos | B25: 39732 | C25: 39723 | D25: 23947 | E25: 0 | F25: 0 | G25: 36329 | H25: 0 | I25: 0 | J25: 0 | K25: 0 | L25: 0 | M25: 0 | N25: 0 | O25: 0 | P25: 0 | Q25: 0 | R25: 0 | S25: 0 | T25: 0 | U25: 64712 | V25: 65948 | W25: 67566 | X25: 76747
A26: =IF(Menu!$D$18="Português",Apoio!D22,Apoio!E22) -> Imobilizado | B26: 124334 | C26: 121570 | D26: 227061 | E26: 238789 | F26: 236941 | G26: 254131 | H26: 252418 | I26: 199730 | J26: 206290 | K26: 214029 | L26: 222442 | M26: 240643 | N26: 247317 | O26: 263099 | P26: 347607 | Q26: 355959 | R26: 378145 | S26: 435455 | T26: 505264 | U26: 535283 | V26: 536180 | W26: 542167 | X26: 551464
A27: =IF(Menu!$D$18="Português",Apoio!D23,Apoio!E23) -> Intangível | B27: 696 | C27: 734 | D27: 993 | E27: 584 | F27: 388 | G27: 1831 | H27: 1467 | I27: 1142 | J27: 947 | K27: 779 | L27: 663 | M27: 604 | N27: 539 | O27: 473 | P27: 60181 | Q27: 83316 | R27: 83717 | S27: 82113 | T27: 80660 | U27: 79048 | V27: 77246 | W27: 75498 | X27: 73757
A28: =IF(Menu!$D$18="Português",Apoio!D24,Apoio!E24) -> Total do ativo | B28: 562553 | C28: 525272 | D28: 570384 | E28: 545587 | F28: 552460 | G28: 589770 | H28: 623654 | I28: 745268 | J28: 833954 | K28: 894161 | L28: 976837 | M28: 1011931 | N28: 1066419 | O28: 1063781 | P28: 1187017 | Q28: 1222267 | R28: 1168475 | S28: 1214762 | T28: 1248870 | U28: 1300366 | V28: 1282895 | W28: 1316979 | X28: 1306928
A29: =IF(Menu!$D$18="Português",Apoio!D25,Apoio!E25) -> PASSIVO e PATRIMÔNIO LÍQUIDO
A30: =IF(Menu!$D$18="Português",Apoio!D26,Apoio!E26) -> Circulante | B30: 236607 | C30: 180252 | D30: 219500 | E30: 228576 | F30: 253042 | G30: 231145 | H30: 225629 | I30: 221245 | J30: 258657 | K30: 173861 | L30: 185716 | M30: 208855 | N30: 218202 | O30: 200904 | P30: 278556 | Q30: 284164 | R30: 219754 | S30: 269426 | T30: 293245 | U30: 296283 | V30: 263125 | W30: 295181 | X30: 278509
A31: =IF(Menu!$D$18="Português",Apoio!D27,Apoio!E27) -> Fornecedores | B31: 45120 | C31: 48935 | D31: 67280 | E31: 59719 | F31: 64430 | G31: 64420 | H31: 64882 | I31: 60536 | J31: 64968 | K31: 44120 | L31: 45318 | M31: 50201 | N31: 54284 | O31: 52019 | P31: 59521 | Q31: 65116 | R31: 61218 | S31: 74107 | T31: 77090 | U31: 75981 | V31: 69972 | W31: 71354 | X31: 62004
A32: =IF(Menu!$D$18="Português",Apoio!D28,Apoio!E28) -> Empréstimos e financiamentos | B32: 100377 | C32: 46791 | D32: 50379 | E32: 49812 | F32: 59333 | G32: 31875 | H32: 1066 | I32: 0 | J32: 7598 | K32: 7598 | L32: 6997 | M32: 3911 | N32: 3911 | O32: 3911 | P32: 53339 | Q32: 26296 | R32: 8046 | S32: 69073 | T32: 83717 | U32: 82746 | V32: 56687 | W32: 84501 | X32: 56138
A33: =IF(Menu!$D$18="Português",Apoio!D29,Apoio!E29) -> Partes relacionadas | B33: 2056 | C33: 91 | D33: 0 | E33: 0 | F33: 0 | G33: - | H33: 0 | I33: 0 | J33: 0 | K33: 0 | L33: 0 | M33: 0 | N33: 0 | O33: 0 | P33: 0 | Q33: 0 | R33: 0 | S33: 0 | T33: 0 | U33: 0 | V33: 0 | W33: 0 | X33: 0
A34: =IF(Menu!$D$18="Português",Apoio!D30,Apoio!E30) -> Obrigações com pessoal | B34: 20592 | C34: 17779 | D34: 20082 | E34: 15650 | F34: 15865 | G34: 18055 | H34: 23033 | I34: 19981 | J34: 24845 | K34: 24559 | L34: 31147 | M34: 29530 | N34: 33361 | O34: 28397 | P34: 35658 | Q34: 29480 | R34: 31332 | S34: 34547 | T34: 36808 | U34: 31852 | V34: 36336 | W34: 35454 | X34: 42245
A35: =IF(Menu!$D$18="Português",Apoio!D31,Apoio!E31) -> Dividendos e juros sobre o capital próprio a pagar | B35: 23 | C35: 0 | D35: 0 | E35: 0 | F35: 0 | G35: 0 | H35: 0 | I35: 0 | J35: 0 | K35: 0 | L35: 0 | M35: 24355 | N35: 24355 | O35: 15726 | P35: 8768 | Q35: 17763 | R35: 4258 | S35: 4583 | T35: 4197 | U35: 24881 | V35: 10284 | W35: 12213 | X35: 13014
A36: =IF(Menu!$D$18="Português",Apoio!D32,Apoio!E32) -> Impostos, taxas e contribuições a recolher | B36: 18000 | C36: 19533 | D36: 40874 | E36: 19559 | F36: 28488 | G36: 29602 | H36: 34669 | I36: 31029 | J36: 46974 | K36: 36073 | L36: 39779 | M36: 34919 | N36: 38736 | O36: 36127 | P36: 34466 | Q36: 30722 | R36: 36503 | S36: 26385 | T36: 27805 | U36: 20730 | V36: 22013 | W36: 25519 | X36: 31514
A37: =IF(Menu!$D$18="Português",Apoio!D33,Apoio!E33) -> Provisão para benefício pós-emprego | B37: 6515 | C37: 6515 | D37: 6515 | E37: 7118 | F37: 7118 | G37: 7118 | H37: 7118 | I37: 7211 | J37: 7211 | K37: 7211 | L37: 7211 | M37: 7851 | N37: 7851 | O37: 7851 | P37: 7851 | Q37: 6947 | R37: 6947 | S37: 6947 | T37: 6947 | U37: 6927 | V37: 6927 | W37: 6927 | X37: 6927
A38: =IF(Menu!$D$18="Português",Apoio!D34,Apoio!E34) -> Obrigações de arrendamento | B38: 0 | C38: 0 | D38: 1520 | E38: 2095 | F38: 2669 | G38: 3053 | H38: 3531 | I38: 4106 | J38: 4681 | K38: 5324 | L38: 5968 | M38: 6572 | N38: 3607 | O38: 3607 | P38: 3607 | Q38: 3607 | R38: 3607 | S38: 3607 | T38: 3607 | U38: 3607 | V38: 3607 | W38: 3607 | X38: 3607
A39: =IF(Menu!$D$18="Português",Apoio!D35,Apoio!E35) -> Outros passivos circulantes | B39: 43579 | C39: =40217+46 -> 40263 | D39: 32683 | E39: 74623 | F39: 75139 | G39: 77022 | H39: 91330 | I39: 98382 | J39: 102380 | K39: 48976 | L39: 49296 | M39: 51516 | N39: 52097 | O39: 53266 | P39: 75346 | Q39: 104233 | R39: 67843 | S39: 50177 | T39: 53074 | U39: 49559 | V39: 57299 | W39: 55606 | X39: 63060
A40: =IF(Menu!$D$18="Português",Apoio!D38,Apoio!E38) -> Provisão para reestruturação | B40: 345 | C40: 345 | D40: 167 | E40: 0 | F40: 0 | G40: 0 | H40: 0 | I40: 0 | J40: 0 | K40: 0 | L40: 0 | M40: 0 | N40: 0 | O40: 0 | P40: 0 | Q40: 0 | R40: 0 | S40: 0 | T40: 0 | U40: - | V40: 0 | W40: 0 | X40: 0
A41: =IF(Menu!$D$18="Português",Apoio!D40,Apoio!E40) -> Não circulante | B41: 339163 | C41: 387769 | D41: 353187 | E41: 319789 | F41: 317050 | G41: 317132 | H41: 316576 | I41: 309012 | J41: 301852 | K41: 277200 | L41: 250007 | M41: 239721 | N41: 242565 | O41: 235279 | P41: 248474 | Q41: 261805 | R41: 255899 | S41: 251111 | T41: 245121 | U41: 234277 | V41: 249722 | W41: 242861 | X41: 234072
A42: =IF(Menu!$D$18="Português",Apoio!D41,Apoio!E41) -> Empréstimos e financiamentos | B42: 32101 | C42: 77789 | D42: 58419 | E42: 63762 | F42: 64394 | G42: 65027 | H42: 65712 | I42: 66388 | J42: 60641 | K42: 36946 | L42: 31375 | M42: 33485 | N42: 32501 | O42: 31509 | P42: 30525 | Q42: 58295 | R42: 56061 | S42: 56828 | T42: 62293 | U42: 59551 | V42: 72959 | W42: 69151 | X42: 67235
A43: =IF(Menu!$D$18="Português",Apoio!D43,Apoio!E43) -> Impostos, taxas e contribuições a recolher | B43: 33849 | C43: 31252 | D43: 28805 | E43: 48774 | F43: 46077 | G43: 45025 | H43: 44569 | I43: 42356 | J43: 42115 | K43: 41161 | L43: 33170 | M43: 32893 | N43: 30615 | O43: 28958 | P43: 22682 | Q43: 22377 | R43: 21106 | S43: 19729 | T43: 14608 | U43: 14477 | V43: 14247 | W43: 13677 | X43: 13185
...

Sheet Desempenho Operacional
B3: 1T19 | C3: 2T19 | D3: 3T19 | E3: 4T19 | F3: 1T20 | G3: 2T20 | H3: 3T20 | I3: 4T20 | J3: 1T21 | K3: 2T21 | L3: 3T21 | M3: 4T21 | N3: 1T22 | O3: 2T22 | P3: 3T22 | Q3: 4T22 | R3: 1T23 | S3: 2T23 | T3: 3T23 | U3: 4T23 | V3: 1T24 | W3: 2T24 | X3: 3T24
A4: =IF(Menu!$D$18="Português",Apoio!G1,Apoio!H1) -> Desempenho Operacional | B4: =IF(Menu!$D18="Português",'Desempenho Operacional'!B$3,LEFT(B3,1)&"Q"&RIGHT(B3,LEN(B3)-FIND("T",B3))) -> 1T19 | C4: =IF(Menu!$D18="Português",'Desempenho Operacional'!C$3,LEFT(C3,1)&"Q"&RIGHT(C3,LEN(C3)-FIND("T",C3))) -> 2T19 | D4: =IF(Menu!$D18="Português",'Desempenho Operacional'!D$3,LEFT(D3,1)&"Q"&RIGHT(D3,LEN(D3)-FIND("T",D3))) -> 3T19 | E4: =IF(Menu!$D18="Português",'Desempenho Operacional'!E$3,LEFT(E3,1)&"Q"&RIGHT(E3,LEN(E3)-FIND("T",E3))) -> 4T19 | F4: =IF(Menu!$D18="Português",'Desempenho Operacional'!F$3,LEFT(F3,1)&"Q"&RIGHT(F3,LEN(F3)-FIND("T",F3))) -> 1T20 | G4: =IF(Menu!$D18="Português",'Desempenho Operacional'!G$3,LEFT(G3,1)&"Q"&RIGHT(G3,LEN(G3)-FIND("T",G3))) -> 2T20 | H4: =IF(Menu!$D18="Português",'Desempenho Operacional'!H$3,LEFT(H3,1)&"Q"&RIGHT(H3,LEN(H3)-FIND("T",H3))) -> 3T20 | I4: =IF(Menu!$D18="Português",'Desempenho Operacional'!I$3,LEFT(I3,1)&"Q"&RIGHT(I3,LEN(I3)-FIND("T",I3))) -> 4T20 | ... X4: =IF(Menu!$D18="Português",'Desempenho Operacional'!X$3,LEFT(X3,1)&"Q"&RIGHT(X3,LEN(X3)-FIND("T",X3))) -> 3T24 | AA4: 2019 | AB4: 2020 | AC4: 2021 | AD4: 2022 | AE4: 2023 | AF4: 9M24
A6: =IF(Menu!$D$18="Português",Apoio!G3,Apoio!H3) -> Segmento de Fibrocimento | AA6: Segmento de Fibrocimento
A7: =IF(Menu!$D$18="Português",Apoio!G4,Apoio!H4) -> Volume de vendas de Telhas de Fibrocimento (t) | B7: 121114 | C7: 150220 | D7: 141447 | E7: 142604 | F7: 124474 | G7: 141550 | H7: 185245 | I7: 173859 | J7: 190855 | K7: 178959 | L7: 174546 | M7: 166480 | N7: 157729 | O7: 145982 | P7: 169649 | Q7: 174000 | R7: 164391 | S7: 139597 | T7: 156404 | U7: 157384 | V7: 145723 | W7: 153417 | X7: 178039 | AA7: =SUM(B7:E7) -> 555385 | AB7: =SUM(F7:I7) -> 625128 | AC7: =SUM(J7:M7) -> 710840 | AD7: =SUM(N7:Q7) -> 647360 | AE7: =SUM(R7:U7) -> 617776 | AF7: =SUM(V7:X7) -> 477179
A8: =IF(Menu!$D$18="Português",Apoio!G5,Apoio!H5) -> Volume de vendas de Sistemas Construtivos (t) | B8: 1640.654 | C8: 1879.984 | D8: 2969 | E8: 2969 | F8: 2270 | G8: 1612 | H8: 1998.7107 | I8: 2444 | J8: 2859 | K8: 3382 | L8: 4700 | M8: 4825 | N8: 4553 | O8: 4105 | P8: 4638 | Q8: 3708 | R8: 4073 | S8: 4639 | T8: 6346 | U8: 4938 | V8: 5191 | W8: 6054 | X8: 6735 | AA8: =SUM(B8:E8) -> 9458.638 | AB8: =SUM(F8:I8) -> 8324.7107 | AC8: =SUM(J8:M8) -> 15766 | AD8: =SUM(N8:Q8) -> 17004 | AE8: =SUM(R8:U8) -> 19996 | AF8: =SUM(V8:X8) -> 17980
A9: =IF(Menu!$D$18="Português",Apoio!G6,Apoio!H6) -> Receita líquida - R$ mil | B9: 101216 | C9: =213290-B9 -> 112074 | D9: =318396 -SUM(B9:C9) -> 105106 | E9: =524059-SUM(B9:D9) -> 205663 | F9: 111178 | G9: 102776 | H9: 152795 | I9: 171468 | J9: 203258 | K9: 206447 | L9: 214127 | M9: 213217 | N9: 188298 | O9: 181823 | P9: 207762 | Q9: 203257 | R9: 199360 | S9: 170753 | T9: 188994 | U9: 184355 | V9: 184591 | W9: 180189 | X9: 207487 | AA9: =SUM(B9:E9) -> 524059 | AB9: =SUM(F9:I9) -> 538217 | AC9: =SUM(J9:M9) -> 837049 | AD9: =SUM(N9:Q9) -> 781140 | AE9: =SUM(R9:U9) -> 743462 | AF9: =SUM(V9:X9) -> 572267
A10: =IF(Menu!$D$18="Português",Apoio!G7,Apoio!H7) -> Lucro bruto - R$ mil | B10: 10881 | C10: =22578-B10 -> 11697 | D10: =39058-SUM(B10:C10) -> 16480 | E10: =88327-SUM(B10:D10) -> 49269 | F10: 17834 | G10: 13684 | H10: 48243 | I10: 65565 | J10: 79737 | K10: 84046 | L10: 83919 | M10: 78397 | N10: 61209 | O10: 52127 | P10: 44971 | Q10: 40517 | R10: 46857 | S10: 34086 | T10: 32581 | U10: 25601 | V10: 28345 | W10: 22165 | X10: 28773 | AA10: =SUM(B10:E10) -> 88327 | AB10: =SUM(F10:I10) -> 145326 | AC10: =SUM(J10:M10) -> 326099 | AD10: =SUM(N10:Q10) -> 198824 | AE10: =SUM(R10:U10) -> 139125 | AF10: =SUM(V10:X10) -> 79283
A11: =IF(Menu!$D$18="Português",Apoio!G8,Apoio!H8) -> Margem bruta - R$ mil | B11: =B10/B9 -> 0.10750277 | C11: =C10/C9 -> 0.10436854 | D11: =D10/D9 -> 0.15679409 | E11: =E10/E9 -> 0.23956181 | F11: =F10/F9 -> 0.16040943 | G11: =G10/G9 -> 0.13314392 | H11: =H10/H9 -> 0.31573677 | I11: =I10/I9 -> 0.38237455 | J11: =J10/J9 -> 0.39229452 | K11: 0.41 | L11: 0.39 | M11: 0.37 | N11: 0.33 | O11: 0.29 | P11: 0.22 | Q11: 0.2 | R11: 0.24 | S11: 0.2 | T11: 0.17 | U11: 0.14 | V11: 0.15 | W11: =W10/W9 -> 0.12300973 | X11: 0.14 | AA11: =AA10/AA9 -> 0.168544 | AB11: =AB10/AB9 -> 0.27001377 | AC11: =AC10/AC9 -> 0.38958173 | AD11: =AD10/AD9 -> 0.25453056 | AE11: =AE10/AE9 -> 0.18713129 | AF11: =AF10/AF9 -> 0.13854197
A12: =IF(Menu!$D$18="Português",Apoio!G9,Apoio!H9) -> Segmento de Mineral Crisotila
A13: =IF(Menu!$D$18="Português",Apoio!G10,Apoio!H10) -> Volume de vendas Mineral Crisotila (t) | B13: 15830 | C13: 0 | D13: 0 | E13: 0 | F13: 5714 | G13: 17977.5 | H13: 22039.51 | I13: 29278 | J13: 35061.614 | K13: 49781 | L13: 36357 | M13: 37183 | N13: 40710 | O13: 54808 | P13: 49628 | Q13: 48914 | R13: 46385 | S13: 47510 | T13: 49095 | U13: 45823 | V13: 38568 | W13: 40909 | X13: 50321 | AA13: =SUM(B13:E13) -> 15830 | AB13: =SUM(F13:I13) -> 75009.01 | AC13: =SUM(J13:M13) -> 158382.61 | AD13: =SUM(N13:Q13) -> 194060 | AE13: =SUM(R13:U13) -> 188813 | AF13: =SUM(V13:X13) -> 129798
A14: =IF(Menu!$D$18="Português",Apoio!G11,Apoio!H11) -> Receita líquida - R$ mil | B14: 21372 | C14: 0 | D14: 0 | E14: 0 | F14: 11041 | G14: =40711-F14 -> 29670 | H14: =80956-(F14+G14) -> 40245 | I14: =133698-SUM(F14:H14) -> 52742 | J14: 62986 | K14: 76780 | L14: 57656 | M14: 71316 | N14: 66973 | O14: 102574 | P14: 104882 | Q14: 98731 | R14: 91153 | S14: 82253 | T14: 96985 | U14: 93855 | V14: 78025 | W14: 90370 | X14: 119458 | AA14: =SUM(B14:E14) -> 21372 | AB14: =SUM(F14:I14) -> 133698 | AC14: =SUM(J14:M14) -> 268738 | AD14: =SUM(N14:Q14) -> 373160 | AE14: =SUM(R14:U14) -> 364246 | AF14: =SUM(V14:X14) -> 287853
A15: =IF(Menu!$D$18="Português",Apoio!G12,Apoio!H12) -> Lucro bruto - R$ mil | B15: 8018 | C15: 0 | D15: 0 | E15: 0 | F15: 4734 | G15: 22163 | H15: =56832-(F15+G15) -> 29935 | I15: =94566-SUM(F15:H15) -> 37734 | J15: 40473 | K15: 47940 | L15: 33821 | M15: 43415 | N15: 24944 | O15: 54251 | P15: 55851 | Q15: 43345 | R15: 36876 | S15: 33756 | T15: 47717 | U15: 36869 | V15: 27318 | W15: 37587 | X15: 58213 | AA15: =SUM(B15:E15) -> 8018 | AB15: =SUM(F15:I15) -> 94566 | AC15: =SUM(J15:M15) -> 165649 | AD15: =SUM(N15:Q15) -> 178391 | AE15: =SUM(R15:U15) -> 155218 | AF15: =SUM(V15:X15) -> 123118
A16: =IF(Menu!$D$18="Português",Apoio!G13,Apoio!H13) -> Margem bruta - R$ mil | B16: =B15/B14 -> 0.37516377 | C16: 0 | D16: 0 | E16: 0 | F16: =F15/F14 -> 0.42876551 | G16: =G15/G14 -> 0.74698349 | H16: =H15/H14 -> 0.74381911 | I16: =I15/I14 -> 0.715445 | J16: =J15/J14 -> 0.64257137 | K16: 0.62 | L16: 0.59 | M16: 0.61 | N16: 0.37 | O16: 0.53 | P16: 0.53 | Q16: 0.44 | R16: 0.4 | S16: 0.41 | T16: 0.49 | U16: 0.39 | V16: 0.35 | W16: =W15/W14 -> 0.41592343 | X16: 0.49 | AA16: =AA15/AA14 -> 0.37516377 | AB16: =AB15/AB14 -> 0.70731051 | AC16: =AC15/AC14 -> 0.61639589 | AD16: =AD15/AD14 -> 0.47805499 | AE16: =AE15/AE14 -> 0.42613508 | AF16: =AF15/AF14 -> 0.42771137
A17: =IF(Menu!$D$18="Português",Apoio!G14,Apoio!H14) -> Segmento de Telhas de Concreto
A18: =IF(Menu!$D$18="Português",Apoio!G15,Apoio!H15) -> Volume de vendas de Telhas de Concreto (mil peças) | B18: 2172 | C18: =4925-B18 -> 2753 | D18: =7306-SUM(B18:C18) -> 2381 | E18: =9436-SUM(B18:D18) -> 2130 | F18: 1877 | G18: 1547.685 | H18: 3086.657 | I18: 2165 | J18: 2044.415 | K18: 1967 | L18: 1954 | M18: 2158 | N18: 1928 | O18: 2384 | P18: 2503 | Q18: 2091 | R18: 1534 | S18: 1608 | T18: 1549 | U18: 1350 | V18: 1312 | W18: 1863 | X18: 1725 | AA18: =SUM(B18:E18) -> 9436 | AB18: =SUM(F18:I18) -> 8676.342 | AC18: =SUM(J18:M18) -> 8123.415 | AD18: =SUM(N18:Q18) -> 8906 | AE18: =SUM(R18:U18) -> 6041 | AF18: =SUM(V18:X18) -> 4900
A19: =IF(Menu!$D$18="Português",Apoio!G16,Apoio!H16) -> Receita líquida - R$ mil | B19: 3754 | C19: =8373-B19 -> 4619 | D19: =12584-SUM(B19:C19) -> 4211 | E19: =16102-SUM(B19:D19) -> 3518 | F19: 3755 | G19: 2618 | H19: 5124 | I19: =15315-SUM(F19:H19) -> 3818 | J19: 3896 | K19: 4088 | L19: 4195 | M19: 4540 | N19: 4286 | O19: 5632 | P19: 6286 | Q19: 5521 | R19: 4789 | S19: 5102 | T19: 4960 | U19: 3917 | V19: 3997 | W19: 5354 | X19: 4985 | AA19: =SUM(B19:E19) -> 16102 | AB19: =SUM(F19:I19) -> 15315 | AC19: =SUM(J19:M19) -> 16719 | AD19: =SUM(N19:Q19) -> 21725 | AE19: =SUM(R19:U19) -> 18768 | AF19: =SUM(V19:X19) -> 14336
A20: =IF(Menu!$D$18="Português",Apoio!G17,Apoio!H17) -> Lucro bruto - R$ mil | B20: -128 | C20: =842-(B20) -> 970 | D20: =968-SUM(B20:C20) -> 126 | E20: =1330-SUM(B20:D20) -> 362 | F20: 547 | G20: -365 | H20: 456 | I20: =1317-SUM(F20:H20) -> 679 | J20: 472 | K20: 853 | L20: 982 | M20: 693 | N20: 414 | O20: 598 | P20: 594 | Q20: 819 | R20: 865 | S20: 1740 | T20: 457 | U20: 460 | V20: 640 | W20: 321 | X20: 735 | AA20: =SUM(B20:E20) -> 1330 | AB20: =SUM(F20:I20) -> 1317 | AC20: =SUM(J20:M20) -> 3000 | AD20: =SUM(N20:Q20) -> 2425 | AE20: =SUM(R20:U20) -> 3522 | AF20: =SUM(V20:X20) -> 1696
A21: =IF(Menu!$D$18="Português",Apoio!G18,Apoio!H18) -> Margem bruta - R$ mil | B21: =B20/B19 -> -0.034096963 | C21: =C20/C19 -> 0.21000216 | D21: =D20/D19 -> 0.029921634 | E21: =E20/E19 -> 0.10289937 | F21: =F20/F19 -> 0.14567244 | G21: =G20/G19 -> -0.1394194 | H21: =H20/H19 -> 0.088992974 | I21: =I20/I19 -> 0.1778418 | ... K21: =K20/K19 -> 0.20865949 | L21: 0.23 | M21: 0.15 | N21: 0.1 | O21: 0.11 | P21: 0.09 | Q21: 0.15 | R21: 0.18 | S21: 0.34 | T21: 0.09 | U21: 0.12 | V21: 0.16 | W21: =W20/W19 -> 0.059955174 | X21: 0.15 | AA21: =AA20/AA19 -> 0.082598435 | AB21: =AB20/AB19 -> 0.085994123 | AC21: =AC20/AC19 -> 0.17943657 | AD21: =AD20/AD19 -> 0.11162255 | AE21: =AE20/AE19 -> 0.18765985 | AF21: =AF20/AF19 -> 0.11830357

Sheet DFC
B3: 1T14 | C3: 2T14 | D3: 3T14 | E3: 4T14 | F3: 1T15 | G3: 2T15 | H3: 3T15 | I3: 4T15 | J3: 1T16 | K3: 2T16 | L3: 3T16 | M3: 4T16 | N3: 1T17 | O3: 2T17 | P3: 3T17 | Q3: 4T17 | R3: 1T18 | S3: 2T18 | T3: 3T18 | U3: 4T18 | V3: 1T19 | W3: 2T19 | X3: 3T19 | Y3: 4T19 | Z3: 1T20 | AA3: 2T20 | AB3: 3T20 | AC3: 4T20 | AD3: 1T21 | AE3: 2T21 | AF3: 3T21 | AG3: 4T21 | AH3: 1T22 | AI3: 2T22 | AJ3: 3T22 | AK3: 4T22 | AL3: 1T23 | AM3: 2T23 | AN3: 3T23 | AO3: 4T23 | AP3: 1T24 | AQ3: 2T24
A4: Demonstração do Fluxo de Caixa - Eternit S.A | B4: =IF(Menu!$D18="Português",DFC!B$3,LEFT(B3,1)&"Q"&RIGHT(B3,LEN(B3)-FIND("T",B3))) -> 1T14 | C4: =IF(Menu!$D18="Português",DFC!C$3,LEFT(C3,1)&"Q"&RIGHT(C3,LEN(C3)-FIND("T",C3))) -> 2T14 | D4: =IF(Menu!$D18="Português",DFC!D$3,LEFT(D3,1)&"Q"&RIGHT(D3,LEN(D3)-FIND("T",D3))) -> 3T14 | E4: =IF(Menu!$D18="Português",DFC!E$3,LEFT(E3,1)&"Q"&RIGHT(E3,LEN(E3)-FIND("T",E3))) -> 4T14 | F4: =IF(Menu!$D18="Português",DFC!F$3,LEFT(F3,1)&"Q"&RIGHT(F3,LEN(F3)-FIND("T",F3))) -> 1T15 | G4: =IF(Menu!$D18="Português",DFC!G$3,LEFT(G3,1)&"Q"&RIGHT(G3,LEN(G3)-FIND("T",G3))) -> 2T15 | H4: =IF(Menu!$D18="Português",DFC!H$3,LEFT(H3,1)&"Q"&RIGHT(H3,LEN(H3)-FIND("T",H3))) -> 3T15 | I4: =IF(Menu!$D18="Português",DFC!I$3,LEFT(I3,1)&"Q"&RIGHT(I3,LEN(I3)-FIND("T",I3))) -> 4T15 | ... AQ4: =IF(Menu!$D18="Português",DFC!AQ$3,LEFT(AQ3,1)&"Q"&RIGHT(AQ3,LEN(AQ3)-FIND("T",AQ3))) -> 2T24
A5: Fluxo de caixa atividades operacionais
A6: Lucro antes do imposto de renda e da contribuição social
A7: Ajustes para conciliar o lucro antes do imposto de renda e da contribuição social com o caixa líquido gerado pelas atividades operacionais:
A8: Resultado da equivalência patrimonial
A9: Depreciação e amortização
A10: Resultado na baixa de ativos imobilizados e intangíveis
A11: Perdas esperadas com créditos de liquidação duvidosa sobre as contas a recebe
A12: Perda estimada para redução ao valor recuperável
A13: Provisão para riscos tributários, cíveis e trabalhistas
A14: Provisão para benefício pós-emprego
A15: Provisão para desmobilização da mina
A16: Provisão para reestruturação
